BEGIN:VCALENDAR
VERSION:2.0
PRODID:-//Oklahoma Bar Association - ECPv4.9.8//NONSGML v1.0//EN
CALSCALE:GREGORIAN
METHOD:PUBLISH
X-WR-CALNAME:Oklahoma Bar Association
X-ORIGINAL-URL:https://www.okbar.org
X-WR-CALDESC:Events for Oklahoma Bar Association
BEGIN:VTIMEZONE
TZID:America/New_York
BEGIN:DAYLIGHT
TZOFFSETFROM:-0500
TZOFFSETTO:-0400
TZNAME:EDT
DTSTART:20240310T070000
END:DAYLIGHT
BEGIN:STANDARD
TZOFFSETFROM:-0400
TZOFFSETTO:-0500
TZNAME:EST
DTSTART:20241103T060000
END:STANDARD
END:VTIMEZONE
BEGIN:VEVENT
DTSTART;TZID="America/New_York":20241211T113000
DTEND;TZID="America/New_York":20241211T130000
DTSTAMP:20260420T181258
CREATED:20240117T160823Z
LAST-MODIFIED:20240117T160823Z
UID:36777-1733916600-1733922000@www.okbar.org
SUMMARY:Family Law Section Meeting/CLE
DESCRIPTION:Tulsa Location: Tulsa County Bar Association\, 1446 S. Boston\, Tulsa – Zoom Option – Lunch Provided \n
URL:https://www.okbar.org/event/family-law-section-meeting-cle-48/
LOCATION:Bar Center\, Room 131\, 1901 N. Lincoln Blvd.\, Oklahoma City\, OK\, 73105\, United States
END:VEVENT
BEGIN:VEVENT
DTSTART;TZID="America/New_York":20241211T120000
DTEND;TZID="America/New_York":20241211T130000
DTSTAMP:20260420T181258
CREATED:20231214T165317Z
LAST-MODIFIED:20240105T223832Z
UID:36130-1733918400-1733922000@www.okbar.org
SUMMARY:Women in Law Section Meeting
DESCRIPTION:Zoom Option – Brown Bag Lunch \n
URL:https://www.okbar.org/event/women-in-law-section-meeting-35/
LOCATION:Bar Center\, Board Room\, 1901 N. Lincoln Blvd.\, Oklahoma City\, OK\, 73105\, United States
END:VEVENT
END:VCALENDAR