BEGIN:VCALENDAR
VERSION:2.0
PRODID:-//Oklahoma Bar Association - ECPv4.9.8//NONSGML v1.0//EN
CALSCALE:GREGORIAN
METHOD:PUBLISH
X-WR-CALNAME:Oklahoma Bar Association
X-ORIGINAL-URL:https://www.okbar.org
X-WR-CALDESC:Events for Oklahoma Bar Association
BEGIN:VTIMEZONE
TZID:America/New_York
BEGIN:DAYLIGHT
TZOFFSETFROM:-0500
TZOFFSETTO:-0400
TZNAME:EDT
DTSTART:20230312T070000
END:DAYLIGHT
BEGIN:STANDARD
TZOFFSETFROM:-0400
TZOFFSETTO:-0500
TZNAME:EST
DTSTART:20231105T060000
END:STANDARD
END:VTIMEZONE
BEGIN:VEVENT
DTSTART;TZID="America/New_York":20230413T120000
DTEND;TZID="America/New_York":20230413T130000
DTSTAMP:20260425T105809
CREATED:20230327T182321Z
LAST-MODIFIED:20230327T182321Z
UID:32449-1681387200-1681390800@www.okbar.org
SUMMARY:Military Assistance Committee Meeting
DESCRIPTION:Zoom Available – Lunch Provided \n
URL:https://www.okbar.org/event/military-assistance-committee-meeting/
LOCATION:Bar Center\, Room 131\, 1901 N. Lincoln Blvd.\, Oklahoma City\, OK\, 73105\, United States
END:VEVENT
BEGIN:VEVENT
DTSTART;TZID="America/New_York":20230413T173000
DTEND;TZID="America/New_York":20230413T190000
DTSTAMP:20260425T105809
CREATED:20221128T173900Z
LAST-MODIFIED:20221128T173900Z
UID:30173-1681407000-1681412400@www.okbar.org
SUMMARY:Lawyers Helping Lawyers Monthly Discussion Group – Tulsa
DESCRIPTION:
URL:https://www.okbar.org/event/lawyers-helping-lawyers-monthly-discussion-group-tulsa-16/
LOCATION:Office of Scott Goode\, 1437 S. Boulder Ave.\, Ste. 1200\, Tulsa\, OK\, 74119\, United States
END:VEVENT
END:VCALENDAR