BEGIN:VCALENDAR
VERSION:2.0
PRODID:-//Oklahoma Bar Association - ECPv4.9.8//NONSGML v1.0//EN
CALSCALE:GREGORIAN
METHOD:PUBLISH
X-WR-CALNAME:Oklahoma Bar Association
X-ORIGINAL-URL:https://www.okbar.org
X-WR-CALDESC:Events for Oklahoma Bar Association
BEGIN:VTIMEZONE
TZID:America/New_York
BEGIN:DAYLIGHT
TZOFFSETFROM:-0500
TZOFFSETTO:-0400
TZNAME:EDT
DTSTART:20220313T070000
END:DAYLIGHT
BEGIN:STANDARD
TZOFFSETFROM:-0400
TZOFFSETTO:-0500
TZNAME:EST
DTSTART:20221106T060000
END:STANDARD
END:VTIMEZONE
BEGIN:VEVENT
DTSTART;TZID="America/New_York":20220521T093000
DTEND;TZID="America/New_York":20220521T120000
DTSTAMP:20260424T061556
CREATED:20211215T155425Z
LAST-MODIFIED:20220110T164614Z
UID:25675-1653125400-1653134400@www.okbar.org
SUMMARY:Title Examination Standards Committee Meeting
DESCRIPTION:
URL:https://www.okbar.org/event/title-examination-standards-committee-meeting-14/
LOCATION:FirsTitle\, 1401 S. Boulder Ave. W\, Tulsa\, OK\, 74119\, United States
END:VEVENT
BEGIN:VEVENT
DTSTART;TZID="America/New_York":20220521T100000
DTEND;TZID="America/New_York":20220521T120000
DTSTAMP:20260424T061556
CREATED:20220324T150600Z
LAST-MODIFIED:20220516T134710Z
UID:27070-1653127200-1653134400@www.okbar.org
SUMMARY:Young Lawyers Division Board Meeting
DESCRIPTION:
URL:https://www.okbar.org/event/young-lawyers-division-board-meeting-10/
LOCATION:Bar Center\, Board Room\, 1901 N. Lincoln Blvd.\, Oklahoma City\, OK\, 73105\, United States
END:VEVENT
END:VCALENDAR