BEGIN:VCALENDAR
VERSION:2.0
PRODID:-//Oklahoma Bar Association - ECPv4.9.8//NONSGML v1.0//EN
CALSCALE:GREGORIAN
METHOD:PUBLISH
X-WR-CALNAME:Oklahoma Bar Association
X-ORIGINAL-URL:https://www.okbar.org
X-WR-CALDESC:Events for Oklahoma Bar Association
BEGIN:VTIMEZONE
TZID:America/New_York
BEGIN:DAYLIGHT
TZOFFSETFROM:-0500
TZOFFSETTO:-0400
TZNAME:EDT
DTSTART:20220313T070000
END:DAYLIGHT
BEGIN:STANDARD
TZOFFSETFROM:-0400
TZOFFSETTO:-0500
TZNAME:EST
DTSTART:20221106T060000
END:STANDARD
END:VTIMEZONE
BEGIN:VEVENT
DTSTART;TZID="America/New_York":20220426T120000
DTEND;TZID="America/New_York":20220426T130000
DTSTAMP:20260421T062347
CREATED:20220209T162737Z
LAST-MODIFIED:20220209T162737Z
UID:26551-1650974400-1650978000@www.okbar.org
SUMMARY:Diversity Committee Meeting
DESCRIPTION:Teleconferencing Available – Lunch Provided \n
URL:https://www.okbar.org/event/diversity-committee-meeting-16/
LOCATION:Bar Center\, Room 131\, 1901 N. Lincoln Blvd.\, Oklahoma City\, OK\, 73105\, United States
END:VEVENT
BEGIN:VEVENT
DTSTART;TZID="America/New_York":20220426T173000
DTEND;TZID="America/New_York":20220426T200000
DTSTAMP:20260421T062347
CREATED:20220419T174059Z
LAST-MODIFIED:20220419T174059Z
UID:27661-1650994200-1651003200@www.okbar.org
SUMMARY:OBA Health Law Section - Health Law Student Mixer
DESCRIPTION:Come and meet OU Law and OCU Law Health Law section students who would like to get to know you and learn more about our OBA Health Law Section and the work that we do!  Drinks and heavy hors d’oeuvres will be provided. \nPlease RSVP re (1) whether you will attend and (2) whether you would like to take advantage of limo transportation from Tulsa to Oklahoma City by 4:00 pm Friday\, April 22nd. \n
URL:https://www.okbar.org/event/oba-health-law-section-health-law-student-mixer/
LOCATION:The Parlor Rooftop\, 11 NE 6th St.\, Oklahoma City\, OK\, 73104\, United States
END:VEVENT
END:VCALENDAR