BEGIN:VCALENDAR
VERSION:2.0
PRODID:-//Oklahoma Bar Association - ECPv4.9.8//NONSGML v1.0//EN
CALSCALE:GREGORIAN
METHOD:PUBLISH
X-WR-CALNAME:Oklahoma Bar Association
X-ORIGINAL-URL:https://www.okbar.org
X-WR-CALDESC:Events for Oklahoma Bar Association
BEGIN:VTIMEZONE
TZID:America/New_York
BEGIN:DAYLIGHT
TZOFFSETFROM:-0500
TZOFFSETTO:-0400
TZNAME:EDT
DTSTART:20220313T070000
END:DAYLIGHT
BEGIN:STANDARD
TZOFFSETFROM:-0400
TZOFFSETTO:-0500
TZNAME:EST
DTSTART:20221106T060000
END:STANDARD
END:VTIMEZONE
BEGIN:VEVENT
DTSTART;TZID="America/New_York":20220420T110000
DTEND;TZID="America/New_York":20220420T143000
DTSTAMP:20260423T162505
CREATED:20220407T144137Z
LAST-MODIFIED:20220407T145506Z
UID:27545-1650452400-1650465000@www.okbar.org
SUMMARY:Business & Corporate Law Section - Virtual Meeting & CLE
DESCRIPTION:Delaware Developments on Controlling Stockholders and Drag-Along Rights\nPresenters: Melissa DiVincenzo & Patricia Vella\nWhat You Need to Know About the Corporate Transparency Act\nPresenters: Gary Derrick & Jacob Fanning \nRegistration \n
URL:https://www.okbar.org/event/business-corporate-law-section-virtual-meeting-cle/
LOCATION:Online
END:VEVENT
BEGIN:VEVENT
DTSTART;TZID="America/New_York":20220420T120000
DTEND;TZID="America/New_York":20220420T130000
DTSTAMP:20260423T162505
CREATED:20211209T174116Z
LAST-MODIFIED:20211209T174116Z
UID:25541-1650456000-1650459600@www.okbar.org
SUMMARY:Indian Law Section Meeting - Virtual
DESCRIPTION:
URL:https://www.okbar.org/event/indian-law-section-meeting-virtual-4/
LOCATION:Online
END:VEVENT
BEGIN:VEVENT
DTSTART;TZID="America/New_York":20220420T140000
DTEND;TZID="America/New_York":20220420T170000
DTSTAMP:20260423T162505
CREATED:20220216T223742Z
LAST-MODIFIED:20220216T223742Z
UID:26602-1650463200-1650474000@www.okbar.org
SUMMARY:Client Security Fund Meeting
DESCRIPTION:
URL:https://www.okbar.org/event/client-security-fund-meeting-4/
LOCATION:Bar Center\, Room 131\, 1901 N. Lincoln Blvd.\, Oklahoma City\, OK\, 73105\, United States
END:VEVENT
END:VCALENDAR