BEGIN:VCALENDAR
VERSION:2.0
PRODID:-//Oklahoma Bar Association - ECPv4.9.8//NONSGML v1.0//EN
CALSCALE:GREGORIAN
METHOD:PUBLISH
X-WR-CALNAME:Oklahoma Bar Association
X-ORIGINAL-URL:https://www.okbar.org
X-WR-CALDESC:Events for Oklahoma Bar Association
BEGIN:VTIMEZONE
TZID:America/New_York
BEGIN:DAYLIGHT
TZOFFSETFROM:-0500
TZOFFSETTO:-0400
TZNAME:EDT
DTSTART:20210314T070000
END:DAYLIGHT
BEGIN:STANDARD
TZOFFSETFROM:-0400
TZOFFSETTO:-0500
TZNAME:EST
DTSTART:20211107T060000
END:STANDARD
END:VTIMEZONE
BEGIN:VEVENT
DTSTART;TZID="America/New_York":20211216T120000
DTEND;TZID="America/New_York":20211216T133000
DTSTAMP:20260422T130252
CREATED:20201210T204902Z
LAST-MODIFIED:20211109T173739Z
UID:15114-1639656000-1639661400@www.okbar.org
SUMMARY:Cancelled-Diversity Committee Meeting
DESCRIPTION:
URL:https://www.okbar.org/event/diversity-committee-teleconference-11/
LOCATION:NA\, OK\, United States
END:VEVENT
END:VCALENDAR