BEGIN:VCALENDAR
VERSION:2.0
PRODID:-//Oklahoma Bar Association - ECPv4.9.8//NONSGML v1.0//EN
CALSCALE:GREGORIAN
METHOD:PUBLISH
X-WR-CALNAME:Oklahoma Bar Association
X-ORIGINAL-URL:https://www.okbar.org
X-WR-CALDESC:Events for Oklahoma Bar Association
BEGIN:VTIMEZONE
TZID:America/New_York
BEGIN:DAYLIGHT
TZOFFSETFROM:-0500
TZOFFSETTO:-0400
TZNAME:EDT
DTSTART:20210314T070000
END:DAYLIGHT
BEGIN:STANDARD
TZOFFSETFROM:-0400
TZOFFSETTO:-0500
TZNAME:EST
DTSTART:20211107T060000
END:STANDARD
END:VTIMEZONE
BEGIN:VEVENT
DTSTART;TZID="America/New_York":20210618T100000
DTEND;TZID="America/New_York":20210618T120000
DTSTAMP:20260425T113632
CREATED:20210524T162544Z
LAST-MODIFIED:20210524T162544Z
UID:18554-1624010400-1624017600@www.okbar.org
SUMMARY:Board of Governors Meeting
DESCRIPTION:Video conferencing available \n
URL:https://www.okbar.org/event/board-of-governors-meeting-36/
LOCATION:Oklahoma Bar Center\, 1901 N Lincoln Blvd\, Oklahoma City\, 73105\, United States
END:VEVENT
BEGIN:VEVENT
DTSTART;TZID="America/New_York":20210618T120000
DTEND;TZID="America/New_York":20210618T130000
DTSTAMP:20260425T113632
CREATED:20210111T174217Z
LAST-MODIFIED:20210111T174217Z
UID:15728-1624017600-1624021200@www.okbar.org
SUMMARY:Military Law Section/Military Assistance Committee Virtual Meeting
DESCRIPTION:Meeting Link \n
URL:https://www.okbar.org/event/military-law-section-military-assistance-committee-virtual-meeting-6/
LOCATION:Online
END:VEVENT
END:VCALENDAR