BEGIN:VCALENDAR
VERSION:2.0
PRODID:-//Oklahoma Bar Association - ECPv4.9.8//NONSGML v1.0//EN
CALSCALE:GREGORIAN
METHOD:PUBLISH
X-WR-CALNAME:Oklahoma Bar Association
X-ORIGINAL-URL:https://www.okbar.org
X-WR-CALDESC:Events for Oklahoma Bar Association
BEGIN:VTIMEZONE
TZID:UTC
BEGIN:STANDARD
TZOFFSETFROM:+0000
TZOFFSETTO:+0000
TZNAME:UTC
DTSTART:20200101T000000
END:STANDARD
TZID:America/New_York
BEGIN:DAYLIGHT
TZOFFSETFROM:-0500
TZOFFSETTO:-0400
TZNAME:EDT
DTSTART:20200308T070000
END:DAYLIGHT
BEGIN:STANDARD
TZOFFSETFROM:-0400
TZOFFSETTO:-0500
TZNAME:EST
DTSTART:20201101T060000
END:STANDARD
END:VTIMEZONE
BEGIN:VEVENT
DTSTART;TZID="UTC":20201217T120000
DTEND;TZID="UTC":20201217T133000
DTSTAMP:20260420T033922
CREATED:20200128T211414Z
LAST-MODIFIED:20201210T150516Z
UID:11796-1608206400-1608211800@www.okbar.org
SUMMARY:Cancelled-Diversity Committee Teleconference
DESCRIPTION:
URL:https://www.okbar.org/event/diversity-committee-meeting-13/
LOCATION:NA\, OK\, United States
END:VEVENT
BEGIN:VEVENT
DTSTART;TZID="America/New_York":20201217T120000
DTEND;TZID="America/New_York":20201217T130000
DTSTAMP:20260420T033922
CREATED:20201207T172000Z
LAST-MODIFIED:20201207T173425Z
UID:15010-1608206400-1608210000@www.okbar.org
SUMMARY:Legislative Monitoring Committee Virtual Meeting
DESCRIPTION:Connection Information \n
URL:https://www.okbar.org/event/legislative-monitoring-committee-virtual-meeting/
LOCATION:Online
END:VEVENT
END:VCALENDAR