BEGIN:VCALENDAR
VERSION:2.0
PRODID:-//Oklahoma Bar Association - ECPv4.9.8//NONSGML v1.0//EN
CALSCALE:GREGORIAN
METHOD:PUBLISH
X-WR-CALNAME:Oklahoma Bar Association
X-ORIGINAL-URL:https://www.okbar.org
X-WR-CALDESC:Events for Oklahoma Bar Association
BEGIN:VTIMEZONE
TZID:UTC
BEGIN:STANDARD
TZOFFSETFROM:+0000
TZOFFSETTO:+0000
TZNAME:UTC
DTSTART:20200101T000000
END:STANDARD
END:VTIMEZONE
BEGIN:VEVENT
DTSTART;TZID="UTC":20201020T120000
DTEND;TZID="UTC":20201020T140000
DTSTAMP:20260425T214813
CREATED:20191213T233039Z
LAST-MODIFIED:20201007T153913Z
UID:11387-1603195200-1603202400@www.okbar.org
SUMMARY:Cancelled-Bench and Bar Committee Meeting
DESCRIPTION:
URL:https://www.okbar.org/event/bench-and-bar-committee-meeting-23/
LOCATION:NA\, OK\, United States
END:VEVENT
END:VCALENDAR