BEGIN:VCALENDAR
VERSION:2.0
PRODID:-//Oklahoma Bar Association - ECPv4.9.8//NONSGML v1.0//EN
CALSCALE:GREGORIAN
METHOD:PUBLISH
X-WR-CALNAME:Oklahoma Bar Association
X-ORIGINAL-URL:https://www.okbar.org
X-WR-CALDESC:Events for Oklahoma Bar Association
BEGIN:VTIMEZONE
TZID:America/New_York
BEGIN:DAYLIGHT
TZOFFSETFROM:-0500
TZOFFSETTO:-0400
TZNAME:EDT
DTSTART:20200308T070000
END:DAYLIGHT
BEGIN:STANDARD
TZOFFSETFROM:-0400
TZOFFSETTO:-0500
TZNAME:EST
DTSTART:20201101T060000
END:STANDARD
END:VTIMEZONE
BEGIN:VEVENT
DTSTART;TZID="America/New_York":20201005T140000
DTEND;TZID="America/New_York":20201005T153000
DTSTAMP:20260425T214826
CREATED:20201019T151447Z
LAST-MODIFIED:20201019T192909Z
UID:14514-1601906400-1601911800@www.okbar.org
SUMMARY:Board of Editors Online Meeting
DESCRIPTION:
URL:https://www.okbar.org/event/board-of-editors-online-meeting/
LOCATION:Online
END:VEVENT
END:VCALENDAR