BEGIN:VCALENDAR
VERSION:2.0
PRODID:-//Oklahoma Bar Association - ECPv4.9.8//NONSGML v1.0//EN
CALSCALE:GREGORIAN
METHOD:PUBLISH
X-WR-CALNAME:Oklahoma Bar Association
X-ORIGINAL-URL:https://www.okbar.org
X-WR-CALDESC:Events for Oklahoma Bar Association
BEGIN:VTIMEZONE
TZID:UTC
BEGIN:STANDARD
TZOFFSETFROM:+0000
TZOFFSETTO:+0000
TZNAME:UTC
DTSTART:20200101T000000
END:STANDARD
END:VTIMEZONE
BEGIN:VEVENT
DTSTART;TZID="UTC":20200831T113000
DTEND;TZID="UTC":20200831T133000
DTSTAMP:20260425T183215
CREATED:20200107T023316Z
LAST-MODIFIED:20200814T210834Z
UID:11627-1598873400-1598880600@www.okbar.org
SUMMARY:Appellate Practice Section Virtual Meeting/CLE
DESCRIPTION:Connection Information \n
URL:https://www.okbar.org/event/appellate-practice-section-meeting-cle-3/
LOCATION:Online
END:VEVENT
END:VCALENDAR