BEGIN:VCALENDAR
VERSION:2.0
PRODID:-//Oklahoma Bar Association - ECPv4.9.8//NONSGML v1.0//EN
CALSCALE:GREGORIAN
METHOD:PUBLISH
X-WR-CALNAME:Oklahoma Bar Association
X-ORIGINAL-URL:https://www.okbar.org
X-WR-CALDESC:Events for Oklahoma Bar Association
BEGIN:VTIMEZONE
TZID:UTC
BEGIN:STANDARD
TZOFFSETFROM:+0000
TZOFFSETTO:+0000
TZNAME:UTC
DTSTART:20200101T000000
END:STANDARD
END:VTIMEZONE
BEGIN:VEVENT
DTSTART;TZID="UTC":20200825T120000
DTEND;TZID="UTC":20200825T133000
DTSTAMP:20260425T183251
CREATED:20200128T210840Z
LAST-MODIFIED:20200810T151353Z
UID:11788-1598356800-1598362200@www.okbar.org
SUMMARY:Diversity Committee Teleconference
DESCRIPTION:
URL:https://www.okbar.org/event/diversity-committee-meeting-9/
LOCATION:Phone Conference
END:VEVENT
END:VCALENDAR