BEGIN:VCALENDAR
VERSION:2.0
PRODID:-//Oklahoma Bar Association - ECPv4.9.8//NONSGML v1.0//EN
CALSCALE:GREGORIAN
METHOD:PUBLISH
X-WR-CALNAME:Oklahoma Bar Association
X-ORIGINAL-URL:https://www.okbar.org
X-WR-CALDESC:Events for Oklahoma Bar Association
BEGIN:VTIMEZONE
TZID:UTC
BEGIN:STANDARD
TZOFFSETFROM:+0000
TZOFFSETTO:+0000
TZNAME:UTC
DTSTART:20200101T000000
END:STANDARD
END:VTIMEZONE
BEGIN:VEVENT
DTSTART;TZID="UTC":20200424T093000
DTEND;TZID="UTC":20200424T120000
DTSTAMP:20260426T010446
CREATED:20191001T204201Z
LAST-MODIFIED:20200420T201045Z
UID:10910-1587720600-1587729600@www.okbar.org
SUMMARY:Professional Responsibility Commission Teleconference
DESCRIPTION:
URL:https://www.okbar.org/event/professional-responsibility-commission-16/
LOCATION:Conference Call\, 1901 N. Lincoln Blvd.\, Oklahoma City\, OK\, 73105\, United States
END:VEVENT
END:VCALENDAR