BEGIN:VCALENDAR
VERSION:2.0
PRODID:-//Oklahoma Bar Association - ECPv4.9.8//NONSGML v1.0//EN
CALSCALE:GREGORIAN
METHOD:PUBLISH
X-WR-CALNAME:Oklahoma Bar Association
X-ORIGINAL-URL:https://www.okbar.org
X-WR-CALDESC:Events for Oklahoma Bar Association
BEGIN:VTIMEZONE
TZID:UTC
BEGIN:STANDARD
TZOFFSETFROM:+0000
TZOFFSETTO:+0000
TZNAME:UTC
DTSTART:20200101T000000
END:STANDARD
END:VTIMEZONE
BEGIN:VEVENT
DTSTART;TZID="UTC":20200309T170000
DTEND;TZID="UTC":20200309T190000
DTSTAMP:20260426T023919
CREATED:20190925T213903Z
LAST-MODIFIED:20190925T213903Z
UID:10868-1583773200-1583780400@www.okbar.org
SUMMARY:Board of Governors Meeting
DESCRIPTION:in conjunction with Day at the Capitol \n
URL:https://www.okbar.org/event/board-of-governors-meeting-17/
LOCATION:Bar Center\, Board Room\, 1901 N. Lincoln Blvd.\, Oklahoma City\, OK\, 73105\, United States
END:VEVENT
END:VCALENDAR