BEGIN:VCALENDAR
VERSION:2.0
PRODID:-//Oklahoma Bar Association - ECPv4.9.8//NONSGML v1.0//EN
CALSCALE:GREGORIAN
METHOD:PUBLISH
X-WR-CALNAME:Oklahoma Bar Association
X-ORIGINAL-URL:https://www.okbar.org
X-WR-CALDESC:Events for Oklahoma Bar Association
BEGIN:VTIMEZONE
TZID:America/New_York
BEGIN:DAYLIGHT
TZOFFSETFROM:-0500
TZOFFSETTO:-0400
TZNAME:EDT
DTSTART:20220313T070000
END:DAYLIGHT
BEGIN:STANDARD
TZOFFSETFROM:-0400
TZOFFSETTO:-0500
TZNAME:EST
DTSTART:20221106T060000
END:STANDARD
END:VTIMEZONE
BEGIN:VEVENT
DTSTART;TZID="America/New_York":20221103T160000
DTEND;TZID="America/New_York":20221103T170000
DTSTAMP:20260423T084000
CREATED:20211203T160435Z
LAST-MODIFIED:20221026T163501Z
UID:25366-1667491200-1667494800@www.okbar.org
SUMMARY:Women in Law Section Meeting
DESCRIPTION:Remote Option \n
URL:https://www.okbar.org/event/women-in-law-section-meeting-11/
LOCATION:Oklahoma City Convention Center\, 100 Mick Cornett Dr.\, Oklahoma City\, OK\, 73109\, United States
END:VEVENT
END:VCALENDAR