BEGIN:VCALENDAR
VERSION:2.0
PRODID:-//Oklahoma Bar Association - ECPv4.9.8//NONSGML v1.0//EN
CALSCALE:GREGORIAN
METHOD:PUBLISH
X-WR-CALNAME:Oklahoma Bar Association
X-ORIGINAL-URL:https://www.okbar.org
X-WR-CALDESC:Events for Oklahoma Bar Association
BEGIN:VTIMEZONE
TZID:UTC
BEGIN:STANDARD
TZOFFSETFROM:+0000
TZOFFSETTO:+0000
TZNAME:UTC
DTSTART:20200101T000000
END:STANDARD
END:VTIMEZONE
BEGIN:VEVENT
DTSTART;TZID="UTC":20200718T093000
DTEND;TZID="UTC":20200718T120000
DTSTAMP:20260422T145752
CREATED:20191230T224805Z
LAST-MODIFIED:20200716T133223Z
UID:11491-1595064600-1595073600@www.okbar.org
SUMMARY:Title Examination Standards Committee Virtual Meeting
DESCRIPTION:Meeting via Zoom \n
URL:https://www.okbar.org/event/title-examination-standards-committee-7/
LOCATION:Online
END:VEVENT
END:VCALENDAR