BEGIN:VCALENDAR
VERSION:2.0
PRODID:-//Oklahoma Bar Association - ECPv4.9.8//NONSGML v1.0//EN
CALSCALE:GREGORIAN
METHOD:PUBLISH
X-WR-CALNAME:Oklahoma Bar Association
X-ORIGINAL-URL:https://www.okbar.org
X-WR-CALDESC:Events for Oklahoma Bar Association
BEGIN:VTIMEZONE
TZID:America/New_York
BEGIN:DAYLIGHT
TZOFFSETFROM:-0500
TZOFFSETTO:-0400
TZNAME:EDT
DTSTART:20250309T070000
END:DAYLIGHT
BEGIN:STANDARD
TZOFFSETFROM:-0400
TZOFFSETTO:-0500
TZNAME:EST
DTSTART:20251102T060000
END:STANDARD
END:VTIMEZONE
BEGIN:VEVENT
DTSTART;TZID="America/New_York":20250925T120000
DTEND;TZID="America/New_York":20250925T130000
DTSTAMP:20260423T113124
CREATED:20250103T213908Z
LAST-MODIFIED:20250918T153429Z
UID:41553-1758801600-1758805200@www.okbar.org
SUMMARY:Cancelled - OBA Technology Committee Meeting
DESCRIPTION:The committee is moving to a quarterly schedule. \n
URL:https://www.okbar.org/event/oba-technology-committee-meeting-18/
LOCATION:NA\, OK\, United States
END:VEVENT
END:VCALENDAR