BEGIN:VCALENDAR
VERSION:2.0
PRODID:-//Oklahoma Bar Association - ECPv4.9.8//NONSGML v1.0//EN
CALSCALE:GREGORIAN
METHOD:PUBLISH
X-WR-CALNAME:Oklahoma Bar Association
X-ORIGINAL-URL:https://www.okbar.org
X-WR-CALDESC:Events for Oklahoma Bar Association
BEGIN:VTIMEZONE
TZID:UTC
BEGIN:STANDARD
TZOFFSETFROM:+0000
TZOFFSETTO:+0000
TZNAME:UTC
DTSTART:20190101T000000
END:STANDARD
END:VTIMEZONE
BEGIN:VEVENT
DTSTART;TZID="UTC":20190919T173000
DTEND;TZID="UTC":20190919T190000
DTSTAMP:20260425T161329
CREATED:20190912T235202Z
LAST-MODIFIED:20190912T235202Z
UID:10777-1568914200-1568919600@www.okbar.org
SUMMARY:Mock Trial Committee Meeting
DESCRIPTION:Available by phone. \n
URL:https://www.okbar.org/event/mock-trial-committee-meeting/
LOCATION:Bar Center\, Room 131\, 1901 N. Lincoln Blvd.\, Oklahoma City\, OK\, 73105\, United States
END:VEVENT
END:VCALENDAR