BEGIN:VCALENDAR
VERSION:2.0
PRODID:-//Oklahoma Bar Association - ECPv4.9.8//NONSGML v1.0//EN
CALSCALE:GREGORIAN
METHOD:PUBLISH
X-WR-CALNAME:Oklahoma Bar Association
X-ORIGINAL-URL:https://www.okbar.org
X-WR-CALDESC:Events for Oklahoma Bar Association
BEGIN:VTIMEZONE
TZID:America/New_York
BEGIN:DAYLIGHT
TZOFFSETFROM:-0500
TZOFFSETTO:-0400
TZNAME:EDT
DTSTART:20220313T070000
END:DAYLIGHT
BEGIN:STANDARD
TZOFFSETFROM:-0400
TZOFFSETTO:-0500
TZNAME:EST
DTSTART:20221106T060000
END:STANDARD
END:VTIMEZONE
BEGIN:VEVENT
DTSTART;TZID="America/New_York":20220513T120000
DTEND;TZID="America/New_York":20220513T130000
DTSTAMP:20260424T172108
CREATED:20220112T153000Z
LAST-MODIFIED:20220112T153000Z
UID:26101-1652443200-1652446800@www.okbar.org
SUMMARY:Lawyers Helping Lawyers Assistance Program Meeting
DESCRIPTION:Meeting Link – Lunch Provided \n
URL:https://www.okbar.org/event/lawyers-helping-lawyers-assistance-program-meeting-7/
LOCATION:Online
END:VEVENT
END:VCALENDAR