BEGIN:VCALENDAR
VERSION:2.0
PRODID:-//Oklahoma Bar Association - ECPv4.9.8//NONSGML v1.0//EN
CALSCALE:GREGORIAN
METHOD:PUBLISH
X-WR-CALNAME:Oklahoma Bar Association
X-ORIGINAL-URL:https://www.okbar.org
X-WR-CALDESC:Events for Oklahoma Bar Association
BEGIN:VTIMEZONE
TZID:UTC
BEGIN:STANDARD
TZOFFSETFROM:+0000
TZOFFSETTO:+0000
TZNAME:UTC
DTSTART:20200101T000000
END:STANDARD
END:VTIMEZONE
BEGIN:VEVENT
DTSTART;TZID="UTC":20200717T120000
DTEND;TZID="UTC":20200717T133000
DTSTAMP:20260422T162730
CREATED:20200130T205059Z
LAST-MODIFIED:20200708T212059Z
UID:11812-1594987200-1594992600@www.okbar.org
SUMMARY:Lawyers Helping Lawyers Assistance Program Virtual Meeting
DESCRIPTION:Connection information \n
URL:https://www.okbar.org/event/lawyers-helping-lawyers-assistance-program-meeting-3/
LOCATION:Online
END:VEVENT
END:VCALENDAR