BEGIN:VCALENDAR
VERSION:2.0
PRODID:-//Oklahoma Bar Association - ECPv4.9.8//NONSGML v1.0//EN
CALSCALE:GREGORIAN
METHOD:PUBLISH
X-WR-CALNAME:Oklahoma Bar Association
X-ORIGINAL-URL:https://www.okbar.org
X-WR-CALDESC:Events for Oklahoma Bar Association
BEGIN:VTIMEZONE
TZID:America/New_York
BEGIN:DAYLIGHT
TZOFFSETFROM:-0500
TZOFFSETTO:-0400
TZNAME:EDT
DTSTART:20220313T070000
END:DAYLIGHT
BEGIN:STANDARD
TZOFFSETFROM:-0400
TZOFFSETTO:-0500
TZNAME:EST
DTSTART:20221106T060000
END:STANDARD
END:VTIMEZONE
BEGIN:VEVENT
DTSTART;TZID="America/New_York":20220331T100000
DTEND;TZID="America/New_York":20220331T130000
DTSTAMP:20260424T121006
CREATED:20220207T224217Z
LAST-MODIFIED:20220207T224217Z
UID:26497-1648720800-1648731600@www.okbar.org
SUMMARY:Law Schools Committee - TU Law School Site Visit
DESCRIPTION:Site visit will be conducted virtually and in-person. \n
URL:https://www.okbar.org/event/law-schools-committee-tu-law-school-site-visit/
LOCATION:University of Tulsa College of Law
END:VEVENT
END:VCALENDAR