BEGIN:VCALENDAR
VERSION:2.0
PRODID:-//Oklahoma Bar Association - ECPv4.9.8//NONSGML v1.0//EN
CALSCALE:GREGORIAN
METHOD:PUBLISH
X-WR-CALNAME:Oklahoma Bar Association
X-ORIGINAL-URL:https://www.okbar.org
X-WR-CALDESC:Events for Oklahoma Bar Association
BEGIN:VTIMEZONE
TZID:America/New_York
BEGIN:DAYLIGHT
TZOFFSETFROM:-0500
TZOFFSETTO:-0400
TZNAME:EDT
DTSTART:20210314T070000
END:DAYLIGHT
BEGIN:STANDARD
TZOFFSETFROM:-0400
TZOFFSETTO:-0500
TZNAME:EST
DTSTART:20211107T060000
END:STANDARD
END:VTIMEZONE
BEGIN:VEVENT
DTSTART;TZID="America/New_York":20210222T120000
DTEND;TZID="America/New_York":20210222T133000
DTSTAMP:20260420T185904
CREATED:20210106T215858Z
LAST-MODIFIED:20210217T162205Z
UID:15587-1613995200-1614000600@www.okbar.org
SUMMARY:Estate Planning\, Probate and Trust Section Virtual Lunch and Learn
DESCRIPTION:Presenter: Andrea Painter – Topic: Oil and Gas for Estate Planners – Connection Link \n
URL:https://www.okbar.org/event/estate-planning-probate-and-trust-section-virtual-lunch-and-learn/
LOCATION:Online
END:VEVENT
END:VCALENDAR