BEGIN:VCALENDAR
VERSION:2.0
PRODID:-//Oklahoma Bar Association - ECPv4.9.8//NONSGML v1.0//EN
CALSCALE:GREGORIAN
METHOD:PUBLISH
X-WR-CALNAME:Oklahoma Bar Association
X-ORIGINAL-URL:https://www.okbar.org
X-WR-CALDESC:Events for Oklahoma Bar Association
BEGIN:VTIMEZONE
TZID:America/New_York
BEGIN:DAYLIGHT
TZOFFSETFROM:-0500
TZOFFSETTO:-0400
TZNAME:EDT
DTSTART:20210314T070000
END:DAYLIGHT
BEGIN:STANDARD
TZOFFSETFROM:-0400
TZOFFSETTO:-0500
TZNAME:EST
DTSTART:20211107T060000
END:STANDARD
END:VTIMEZONE
BEGIN:VEVENT
DTSTART;TZID="America/New_York":20210615T120000
DTEND;TZID="America/New_York":20210615T133000
DTSTAMP:20260423T211137
CREATED:20210319T164849Z
LAST-MODIFIED:20210319T164849Z
UID:17078-1623758400-1623763800@www.okbar.org
SUMMARY:Estate Planning\, Probate and Trust Section Virtual CLE
DESCRIPTION:Meeting Link – Speaker Landon Long\, Topic: “How to Make Distributions from a Trust after the Settlor Dies”  \n
URL:https://www.okbar.org/event/estate-planning-probate-and-trust-section-virtual-cle-2/
LOCATION:Online
END:VEVENT
END:VCALENDAR