BEGIN:VCALENDAR
VERSION:2.0
PRODID:-//Oklahoma Bar Association - ECPv4.9.8//NONSGML v1.0//EN
CALSCALE:GREGORIAN
METHOD:PUBLISH
X-WR-CALNAME:Oklahoma Bar Association
X-ORIGINAL-URL:https://www.okbar.org
X-WR-CALDESC:Events for Oklahoma Bar Association
BEGIN:VTIMEZONE
TZID:America/New_York
BEGIN:DAYLIGHT
TZOFFSETFROM:-0500
TZOFFSETTO:-0400
TZNAME:EDT
DTSTART:20230312T070000
END:DAYLIGHT
BEGIN:STANDARD
TZOFFSETFROM:-0400
TZOFFSETTO:-0500
TZNAME:EST
DTSTART:20231105T060000
END:STANDARD
END:VTIMEZONE
BEGIN:VEVENT
DTSTART;TZID="America/New_York":20230328T120000
DTEND;TZID="America/New_York":20230328T130000
DTSTAMP:20260425T110207
CREATED:20230308T155255Z
LAST-MODIFIED:20230308T164640Z
UID:32225-1680004800-1680008400@www.okbar.org
SUMMARY:Estate Planning\, Probate and Trust Section CLE
DESCRIPTION:Available via Zoom – Lunch Provided – Speaker: Richard Winblad – Topic: Health Care Powers of Attorney and Advance Directives \n
URL:https://www.okbar.org/event/estate-planning-probate-and-trust-section-cle-2/
LOCATION:Bar Center\, Room 131\, 1901 N. Lincoln Blvd.\, Oklahoma City\, OK\, 73105\, United States
END:VEVENT
END:VCALENDAR