BEGIN:VCALENDAR
VERSION:2.0
PRODID:-//Oklahoma Bar Association - ECPv4.9.8//NONSGML v1.0//EN
CALSCALE:GREGORIAN
METHOD:PUBLISH
X-WR-CALNAME:Oklahoma Bar Association
X-ORIGINAL-URL:https://www.okbar.org
X-WR-CALDESC:Events for Oklahoma Bar Association
BEGIN:VTIMEZONE
TZID:UTC
BEGIN:STANDARD
TZOFFSETFROM:+0000
TZOFFSETTO:+0000
TZNAME:UTC
DTSTART:20200101T000000
END:STANDARD
END:VTIMEZONE
BEGIN:VEVENT
DTSTART;TZID="UTC":20200319T120000
DTEND;TZID="UTC":20200319T133000
DTSTAMP:20260420T025757
CREATED:20200128T210420Z
LAST-MODIFIED:20200316T195449Z
UID:11780-1584619200-1584624600@www.okbar.org
SUMMARY:Cancelled-Diversity Committee Meeting
DESCRIPTION:
URL:https://www.okbar.org/event/diversity-committee-meeting-5/
LOCATION:NA\, OK\, United States
END:VEVENT
END:VCALENDAR