BEGIN:VCALENDAR
VERSION:2.0
PRODID:-//Oklahoma Bar Association - ECPv4.9.8//NONSGML v1.0//EN
CALSCALE:GREGORIAN
METHOD:PUBLISH
X-WR-CALNAME:Oklahoma Bar Association
X-ORIGINAL-URL:https://www.okbar.org
X-WR-CALDESC:Events for Oklahoma Bar Association
BEGIN:VTIMEZONE
TZID:UTC
BEGIN:STANDARD
TZOFFSETFROM:+0000
TZOFFSETTO:+0000
TZNAME:UTC
DTSTART:20200101T000000
END:STANDARD
END:VTIMEZONE
BEGIN:VEVENT
DTSTART;TZID="UTC":20200121T120000
DTEND;TZID="UTC":20200121T140000
DTSTAMP:20260425T103617
CREATED:20191213T231554Z
LAST-MODIFIED:20200121T194958Z
UID:11369-1579608000-1579615200@www.okbar.org
SUMMARY:CANCELLED - Bench and Bar Committee Meeting
DESCRIPTION:Lunch Provided \n
URL:https://www.okbar.org/event/bench-and-bar-committee-meeting-14/
LOCATION:Bar Center\, Room 131\, 1901 N. Lincoln Blvd.\, Oklahoma City\, OK\, 73105\, United States
END:VEVENT
END:VCALENDAR