BEGIN:VCALENDAR
VERSION:2.0
PRODID:-//Oklahoma Bar Association - ECPv4.9.8//NONSGML v1.0//EN
CALSCALE:GREGORIAN
METHOD:PUBLISH
X-WR-CALNAME:Oklahoma Bar Association
X-ORIGINAL-URL:https://www.okbar.org
X-WR-CALDESC:Events for Oklahoma Bar Association
BEGIN:VTIMEZONE
TZID:UTC
BEGIN:STANDARD
TZOFFSETFROM:+0000
TZOFFSETTO:+0000
TZNAME:UTC
DTSTART:20200101T000000
END:STANDARD
END:VTIMEZONE
BEGIN:VEVENT
DTSTART;TZID="UTC":20200224T113000
DTEND;TZID="UTC":20200224T133000
DTSTAMP:20260423T131111
CREATED:20200107T023016Z
LAST-MODIFIED:20200219T030108Z
UID:11621-1582543800-1582551000@www.okbar.org
SUMMARY:Appellate Practice Section Meeting/CLE
DESCRIPTION:lunch provided – available by video conference – Tulsa location: McAffee & Taft\, 2 W. 2nd St.\, Ste. 1100\, Tulsa  \n
URL:https://www.okbar.org/event/appellate-practice-section-meeting-cle/
LOCATION:Bar Center\, Room 131\, 1901 N. Lincoln Blvd.\, Oklahoma City\, OK\, 73105\, United States
END:VEVENT
END:VCALENDAR