BEGIN:VCALENDAR
VERSION:2.0
PRODID:-//Oklahoma Bar Association - ECPv4.9.8//NONSGML v1.0//EN
CALSCALE:GREGORIAN
METHOD:PUBLISH
X-WR-CALNAME:Oklahoma Bar Association
X-ORIGINAL-URL:https://www.okbar.org
X-WR-CALDESC:Events for Oklahoma Bar Association
BEGIN:VTIMEZONE
TZID:America/New_York
BEGIN:DAYLIGHT
TZOFFSETFROM:-0500
TZOFFSETTO:-0400
TZNAME:EDT
DTSTART:20240310T070000
END:DAYLIGHT
BEGIN:STANDARD
TZOFFSETFROM:-0400
TZOFFSETTO:-0500
TZNAME:EST
DTSTART:20241103T060000
END:STANDARD
END:VTIMEZONE
BEGIN:VEVENT
DTSTART;TZID="America/New_York":20241114T083000
DTEND;TZID="America/New_York":20241114T103000
DTSTAMP:20260423T165510
CREATED:20241105T145552Z
LAST-MODIFIED:20241107T202110Z
UID:40694-1731573000-1731580200@www.okbar.org
SUMMARY:Animal Law Section Virtual CLE/Meeting
DESCRIPTION:ZOOM \nSpeaker: Melissa Gardner\, Atty. Ball Morse Lowe\nPresentation: Landlords\, Animal Law & Ethics\n1 CLE credit Ethics\nRegistration\nFree for section members\, $20 for non-section members\nCLE Presentation begins at 8:30 and ends at 9:20\nSection Meeting begins at 9:30 \n
URL:https://www.okbar.org/event/animal-law-section-cle-2/
LOCATION:Online
END:VEVENT
END:VCALENDAR