BEGIN:VCALENDAR
VERSION:2.0
PRODID:-//Oklahoma Bar Association - ECPv4.9.8//NONSGML v1.0//EN
CALSCALE:GREGORIAN
METHOD:PUBLISH
X-WR-CALNAME:Oklahoma Bar Association
X-ORIGINAL-URL:https://www.okbar.org
X-WR-CALDESC:Events for Oklahoma Bar Association
BEGIN:VTIMEZONE
TZID:America/New_York
BEGIN:DAYLIGHT
TZOFFSETFROM:-0500
TZOFFSETTO:-0400
TZNAME:EDT
DTSTART:20210314T070000
END:DAYLIGHT
BEGIN:STANDARD
TZOFFSETFROM:-0400
TZOFFSETTO:-0500
TZNAME:EST
DTSTART:20211107T060000
END:STANDARD
END:VTIMEZONE
BEGIN:VEVENT
DTSTART;TZID="America/New_York":20210409T120000
DTEND;TZID="America/New_York":20210409T130000
DTSTAMP:20260423T100836
CREATED:20210210T202550Z
LAST-MODIFIED:20210326T141224Z
UID:16358-1617969600-1617973200@www.okbar.org
SUMMARY:Alternative Dispute Resolution Section Joint Virtual CLE with Tulsa County Bar Association
DESCRIPTION:Presenter: Kelsey Harrison – Topic: The Finer Points of Zoom Meetings\nEvent Link If you are not an ADR Section member\, join today and attend for free. \n
URL:https://www.okbar.org/event/alternative-dispute-resolution-section-joint-virtual-cle-with-tulsa-county-bar-association/
LOCATION:Online
END:VEVENT
END:VCALENDAR