BEGIN:VCALENDAR
VERSION:2.0
PRODID:-//Oklahoma Bar Association - ECPv4.9.8//NONSGML v1.0//EN
CALSCALE:GREGORIAN
METHOD:PUBLISH
X-WR-CALNAME:Oklahoma Bar Association
X-ORIGINAL-URL:https://www.okbar.org
X-WR-CALDESC:Events for Oklahoma Bar Association
BEGIN:VTIMEZONE
TZID:UTC
BEGIN:STANDARD
TZOFFSETFROM:+0000
TZOFFSETTO:+0000
TZNAME:UTC
DTSTART:20200101T000000
END:STANDARD
END:VTIMEZONE
BEGIN:VEVENT
DTSTART;TZID="UTC":20200508T120000
DTEND;TZID="UTC":20200508T130000
DTSTAMP:20260424T000245
CREATED:20191101T214532Z
LAST-MODIFIED:20200428T204037Z
UID:11146-1588939200-1588942800@www.okbar.org
SUMMARY:Cancelled-Alternative Dispute Resolution Section Meeting
DESCRIPTION:
URL:https://www.okbar.org/event/alternative-dispute-resolution-section-11/
LOCATION:NA\, OK\, United States
END:VEVENT
END:VCALENDAR