BEGIN:VCALENDAR
VERSION:2.0
PRODID:-//Oklahoma Bar Association - ECPv4.9.8//NONSGML v1.0//EN
CALSCALE:GREGORIAN
METHOD:PUBLISH
X-WR-CALNAME:Oklahoma Bar Association
X-ORIGINAL-URL:https://www.okbar.org
X-WR-CALDESC:Events for Oklahoma Bar Association
BEGIN:VTIMEZONE
TZID:America/New_York
BEGIN:DAYLIGHT
TZOFFSETFROM:-0500
TZOFFSETTO:-0400
TZNAME:EDT
DTSTART:20220313T070000
END:DAYLIGHT
BEGIN:STANDARD
TZOFFSETFROM:-0400
TZOFFSETTO:-0500
TZNAME:EST
DTSTART:20221106T060000
END:STANDARD
END:VTIMEZONE
BEGIN:VEVENT
DTSTART;TZID="America/New_York":20220915T120000
DTEND;TZID="America/New_York":20220915T140000
DTSTAMP:20260426T025214
CREATED:20220830T192231Z
LAST-MODIFIED:20220830T192231Z
UID:28926-1663243200-1663250400@www.okbar.org
SUMMARY:2023 Budget Committee Meeting
DESCRIPTION:Video Conferencing Available \n
URL:https://www.okbar.org/event/2023-budget-committee-meeting/
LOCATION:Bar Center\, Board Room\, 1901 N. Lincoln Blvd.\, Oklahoma City\, OK\, 73105\, United States
END:VEVENT
END:VCALENDAR